BEGIN:VCALENDAR
VERSION:2.0
PRODID:-//eventon.com NONSGML v1.0//EN
BEGIN:VEVENT
UID:69e73b5e763e2
DTSTAMP:20260421T085454
DTSTART:20221203T000000Z
DTEND:20230114T230000Z
TZID:UTC
LOCATION:Jamaica 
SUMMARY:Sunday School Workshop 2022
DESCRIPTION: Sunday School Workshop 2022\nhttps://pcmcworld.com/events/sunday-school-workshop-2022/
URL:https://pcmcworld.com/events/sunday-school-workshop-2022/
END:VEVENT
END:VCALENDAR