BEGIN:VCALENDAR
VERSION:2.0
PRODID:-//eventon.com NONSGML v1.0//EN
BEGIN:VEVENT
UID:69e7394607b57
DTSTAMP:20260421T084558
DTSTART:20240706T180000Z
DTEND:20240706T210000Z
TZID:UTC
LOCATION:London\,  United Kingdom 
SUMMARY:Fundraising Dinner & Entertainment
DESCRIPTION: Fundraising Dinner & Entertainment\nhttps://pcmcworld.com/events/fundraising-dinner-entertainment/
URL:https://pcmcworld.com/events/fundraising-dinner-entertainment/
END:VEVENT
END:VCALENDAR