BEGIN:VCALENDAR
VERSION:2.0
PRODID:-//eventon.com NONSGML v1.0//EN
BEGIN:VEVENT
UID:69e8c19398fb2
DTSTAMP:20260422T123947
DTSTART:20251108
DTEND:20251108
TZID:UTC
LOCATION:Connecticut 
SUMMARY:BANQUET
DESCRIPTION: BANQUET\nhttps://pcmcworld.com/events/banquet-2/
URL:https://pcmcworld.com/events/banquet-2/
END:VEVENT
END:VCALENDAR